BEGIN:VCALENDAR
BEGIN:VEVENT
DESCRIPTION:\nMore Information: https://tix.truewestfilmcenter.org/websales/pages/TicketSearchCriteria.aspx?evtInfo=555305~314a9d13-0051-4a52-bc95-498a9c10b9b6&\n\nDiagnosed with Tourette Syndrome at 15, John Davidson navigates his way against the odds through troubled teenage years and into adulthood, finding inspiration in the kindness of others to discover his true purpose in life.
DTSTART:20260428T014500Z
DTEND:20260428T034600Z
LOCATION:True West Film Center The North Lounge, 371 Healdsburg Ave, Healdsburg, CA, 95448
SUMMARY:I Swear (NORTH LOUNGE)
UID:555305
DTSTAMP:20260422T091005Z
END:VEVENT
END:VCALENDAR
