BEGIN:VCALENDAR
BEGIN:VEVENT
DESCRIPTION:\nMore Information: https://tix.truewestfilmcenter.org/websales/pages/TicketSearchCriteria.aspx?evtInfo=555296~314a9d13-0051-4a52-bc95-498a9c10b9b6&\n\nLong-buried wounds rise to the surface when iconic pop star Mother Mary reunites with her estranged best friend and former costume designer Sam Anselm on the eve of her comeback performance.
DTSTART:20260427T004500Z
DTEND:20260427T023700Z
LOCATION:True West Film Center The North Lounge, 371 Healdsburg Ave, Healdsburg, CA, 95448
SUMMARY:Mother Mary (NORTH LOUNGE)
UID:555296
DTSTAMP:20260422T085511Z
END:VEVENT
END:VCALENDAR
