BEGIN:VCALENDAR
BEGIN:VEVENT
DESCRIPTION:\nMore Information: https://tix.truewestfilmcenter.org/websales/pages/TicketSearchCriteria.aspx?evtInfo=554428~314a9d13-0051-4a52-bc95-498a9c10b9b6&\n\nAustralian good girl Sandy and greaser Danny fell in love over the summer. But when they unexpectedly discover they're now in the same high school, will they be able to rekindle their romance despite their eccentric friends?
DTSTART:20260527T230000Z
DTEND:20260528T005000Z
LOCATION:True West Film Center Theater 3, 371 Healdsburg Ave, Healdsburg, CA, 95448
SUMMARY:Grease
UID:554428
DTSTAMP:20260425T090808Z
END:VEVENT
END:VCALENDAR
