BEGIN:VCALENDAR
BEGIN:VEVENT
DESCRIPTION:\nMore Information: https://tix.truewestfilmcenter.org/websales/pages/TicketSearchCriteria.aspx?evtInfo=554427~314a9d13-0051-4a52-bc95-498a9c10b9b6&\n\nMia, an aspiring actress, serves lattes to movie stars in between auditions and Sebastian, a jazz musician, scrapes by playing cocktail party gigs in dingy bars, but as success mounts they are faced with decisions that begin to fray the fragile fabric of their love affair, and the dreams they worked so hard to maintain in each other threaten to rip them apart.
DTSTART:20260521T021500Z
DTEND:20260521T042400Z
LOCATION:True West Film Center Theater 2, 371 Healdsburg Ave, Healdsburg, CA, 95448
SUMMARY:La La Land
UID:554427
DTSTAMP:20260424T085917Z
END:VEVENT
END:VCALENDAR
