BEGIN:VCALENDAR
BEGIN:VEVENT
DESCRIPTION:\nMore Information: https://tix.truewestfilmcenter.org/websales/pages/TicketSearchCriteria.aspx?evtInfo=554425~314a9d13-0051-4a52-bc95-498a9c10b9b6&\n\nIn New York City's gritty East Village, a group of bohemians strive for success and acceptance while enduring the obstacles of poverty, illness and the AIDS epidemic.
DTSTART:20260514T021500Z
DTEND:20260514T043000Z
LOCATION:True West Film Center Theater 2, 371 Healdsburg Ave, Healdsburg, CA, 95448
SUMMARY:Rent
UID:554425
DTSTAMP:20260420T082336Z
END:VEVENT
END:VCALENDAR
