BEGIN:VCALENDAR
BEGIN:VEVENT
DESCRIPTION:\nMore Information: https://tix.truewestfilmcenter.org/websales/pages/TicketSearchCriteria.aspx?evtInfo=554416~314a9d13-0051-4a52-bc95-498a9c10b9b6&\n\nRenowned film star Joan Crawford's abuse towards Christina, her adopted daughter, intensifies as her professional and romantic relationships turn sour.
DTSTART:20260509T024500Z
DTEND:20260509T045300Z
LOCATION:True West Film Center Theater 2, 371 Healdsburg Ave, Healdsburg, CA, 95448
SUMMARY:Mommie Dearest
UID:554416
DTSTAMP:20260423T054911Z
END:VEVENT
END:VCALENDAR
